BEGIN:VCALENDAR
VERSION:2.0
PRODID:-//Ultron Techniques - ECPv6.0.0.1//NONSGML v1.0//EN
CALSCALE:GREGORIAN
METHOD:PUBLISH
X-WR-CALNAME:Ultron Techniques
X-ORIGINAL-URL:https://www.ultrontechniques.com
X-WR-CALDESC:Events for Ultron Techniques
REFRESH-INTERVAL;VALUE=DURATION:PT1H
X-Robots-Tag:noindex
X-PUBLISHED-TTL:PT1H
BEGIN:VTIMEZONE
TZID:UTC
BEGIN:STANDARD
TZOFFSETFROM:+0000
TZOFFSETTO:+0000
TZNAME:UTC
DTSTART:20260101T000000
END:STANDARD
END:VTIMEZONE
BEGIN:VEVENT
DTSTART;TZID=UTC:20260428T070000
DTEND;TZID=UTC:20260428T080000
DTSTAMP:20260421T093248
CREATED:20260312T023401Z
LAST-MODIFIED:20260414T080657Z
UID:2713-1777359600-1777363200@www.ultrontechniques.com
SUMMARY:Advance PMS Training Session - A
DESCRIPTION:Ultron Property Management System (“PMS”) is a powerful and user-friendly cloud-based platform designed for all property types. It is integrated with Channel Managers leading to major Online Travel Agents (“OTA”). It is robust and comes with dynamic booking engine\, intelligent housekeeping management system\, revenue management capabilities and accounting features. Our PMS also provides comprehensive reports for operations\, revenue management and control purposes. \nWe conduct regular online trainings for our clients. The training is grouped by Modules and divided into 3 Sessions i.e. A\, B and C. Please refer to the Online Training Programme below for reference. Select your Training Session and register by completing the Registration for PMS Online Training Form below. \nOnline Training Programme: \n\n\n\nS/N\nModule\nTraining Session\n\n\nA\nB\nC\n\n\n1\nSettings\n√\n\n\n\n\n2\nRevenue Management\n√\n\n\n\n\n3\nDashboard\n\n√\n\n\n\n4\nBooking Engine\n\n\n√\n\n\n5\nReports and Night Audit\n\n\n√\n\n\n6\neMailer\n\n\n√\n\n\n\nOnce you have successfully registered with us\, you will receive a password to log on to ZOOM via email closer to the training dates selected.  Please feel free to contact us should you need further information. \nIf you wish to make changes to your registration\, please contact us at sales@ultrontechniques.com. \nLoading…
URL:https://www.ultrontechniques.com/event/advance-pms-training-session-a-31/
LOCATION:ZOOM
CATEGORIES:Trainings
ORGANIZER;CN="%5B%3Aen%5DUltron%20Techniques%5B%3Azh%5DUlron%20Techniques%5B%3AID%5DUlron%20Techniques%5B%3A%5D":MAILTO:marketing@ultrontechniques.com
END:VEVENT
BEGIN:VEVENT
DTSTART;TZID=UTC:20260429T070000
DTEND;TZID=UTC:20260429T080000
DTSTAMP:20260421T093248
CREATED:20260312T023432Z
LAST-MODIFIED:20260414T080727Z
UID:2714-1777446000-1777449600@www.ultrontechniques.com
SUMMARY:Advance PMS Training Session - B
DESCRIPTION:Ultron Property Management System (“PMS”) is a powerful and user-friendly cloud-based platform designed for all property types. It is integrated with Channel Managers leading to major Online Travel Agents (“OTA”). It is robust and comes with dynamic booking engine\, intelligent housekeeping management system\, revenue management capabilities and accounting features. Our PMS also provides comprehensive reports for operations\, revenue management and control purposes. \nWe conduct regular online trainings for our clients. The training is grouped by Modules and divided into 3 Sessions i.e. A\, B and C. Please refer to the Online Training Programme below for reference. Select your Training Session and register by completing the Registration for PMS Online Training Form below. \nOnline Training Programme: \n\n\n\nS/N\nModule\nTraining Session\n\n\nA\nB\nC\n\n\n1\nSettings\n√\n\n\n\n\n2\nRevenue Management\n√\n\n\n\n\n3\nDashboard\n\n√\n\n\n\n4\nBooking Engine\n\n\n√\n\n\n5\nReports and Night Audit\n\n\n√\n\n\n6\neMailer\n\n\n√\n\n\n\nOnce you have successfully registered with us\, you will receive a password to log on to ZOOM via email closer to the training dates selected.  Please feel free to contact us should you need further information. \nIf you wish to make changes to your registration\, please contact us at sales@ultrontechniques.com. \nLoading…
URL:https://www.ultrontechniques.com/event/advance-pms-training-session-b-32/
LOCATION:ZOOM
CATEGORIES:Trainings
ORGANIZER;CN="%5B%3Aen%5DUltron%20Techniques%5B%3Azh%5DUlron%20Techniques%5B%3AID%5DUlron%20Techniques%5B%3A%5D":MAILTO:marketing@ultrontechniques.com
END:VEVENT
BEGIN:VEVENT
DTSTART;TZID=UTC:20260430T070000
DTEND;TZID=UTC:20260430T080000
DTSTAMP:20260421T093248
CREATED:20260312T023506Z
LAST-MODIFIED:20260414T080620Z
UID:2715-1777532400-1777536000@www.ultrontechniques.com
SUMMARY:Advance PMS Training Session - C
DESCRIPTION:Ultron Property Management System (“PMS”) is a powerful and user-friendly cloud-based platform designed for all property types. It is integrated with Channel Managers leading to major Online Travel Agents (“OTA”). It is robust and comes with dynamic booking engine\, intelligent housekeeping management system\, revenue management capabilities and accounting features. Our PMS also provides comprehensive reports for operations\, revenue management and control purposes. \nWe conduct regular online trainings for our clients. The training is grouped by Modules and divided into 3 Sessions i.e. A\, B and C. Please refer to the Online Training Programme below for reference. Select your Training Session and register by completing the Registration for PMS Online Training Form below. \nOnline Training Programme: \n\n\n\nS/N\nModule\nTraining Session\n\n\nA\nB\nC\n\n\n1\nSettings\n√\n\n\n\n\n2\nRevenue Management\n√\n\n\n\n\n3\nDashboard\n\n√\n\n\n\n4\nBooking Engine\n\n\n√\n\n\n5\nReports and Night Audit\n\n\n√\n\n\n6\neMailer\n\n\n√\n\n\n\nOnce you have successfully registered with us\, you will receive a password to log on to ZOOM via email closer to the training dates selected.  Please feel free to contact us should you need further information. \nIf you wish to make changes to your registration\, please contact us at sales@ultrontechniques.com. \nLoading…
URL:https://www.ultrontechniques.com/event/advance-pms-training-session-c-31/
LOCATION:ZOOM
CATEGORIES:Trainings
ORGANIZER;CN="%5B%3Aen%5DUltron%20Techniques%5B%3Azh%5DUlron%20Techniques%5B%3AID%5DUlron%20Techniques%5B%3A%5D":MAILTO:marketing@ultrontechniques.com
END:VEVENT
BEGIN:VEVENT
DTSTART;TZID=UTC:20260519T070000
DTEND;TZID=UTC:20260519T080000
DTSTAMP:20260421T093248
CREATED:20260405T013242Z
LAST-MODIFIED:20260414T080847Z
UID:2732-1779174000-1779177600@www.ultrontechniques.com
SUMMARY:Advance PMS Training Session - A
DESCRIPTION:Ultron Property Management System (“PMS”) is a powerful and user-friendly cloud-based platform designed for all property types. It is integrated with Channel Managers leading to major Online Travel Agents (“OTA”). It is robust and comes with dynamic booking engine\, intelligent housekeeping management system\, revenue management capabilities and accounting features. Our PMS also provides comprehensive reports for operations\, revenue management and control purposes. \nWe conduct regular online trainings for our clients. The training is grouped by Modules and divided into 3 Sessions i.e. A\, B and C. Please refer to the Online Training Programme below for reference. Select your Training Session and register by completing the Registration for PMS Online Training Form below. \nOnline Training Programme: \n\n\n\nS/N\nModule\nTraining Session\n\n\nA\nB\nC\n\n\n1\nSettings\n√\n\n\n\n\n2\nRevenue Management\n√\n\n\n\n\n3\nDashboard\n\n√\n\n\n\n4\nBooking Engine\n\n\n√\n\n\n5\nReports and Night Audit\n\n\n√\n\n\n6\neMailer\n\n\n√\n\n\n\nOnce you have successfully registered with us\, you will receive a password to log on to ZOOM via email closer to the training dates selected.  Please feel free to contact us should you need further information. \nIf you wish to make changes to your registration\, please contact us at sales@ultrontechniques.com. \nLoading…
URL:https://www.ultrontechniques.com/event/advance-pms-training-session-a-32/
LOCATION:ZOOM
CATEGORIES:Trainings
ORGANIZER;CN="%5B%3Aen%5DUltron%20Techniques%5B%3Azh%5DUlron%20Techniques%5B%3AID%5DUlron%20Techniques%5B%3A%5D":MAILTO:marketing@ultrontechniques.com
END:VEVENT
BEGIN:VEVENT
DTSTART;TZID=UTC:20260520T070000
DTEND;TZID=UTC:20260520T080000
DTSTAMP:20260421T093248
CREATED:20260405T013330Z
LAST-MODIFIED:20260414T080917Z
UID:2733-1779260400-1779264000@www.ultrontechniques.com
SUMMARY:Advance PMS Training Session - B
DESCRIPTION:Ultron Property Management System (“PMS”) is a powerful and user-friendly cloud-based platform designed for all property types. It is integrated with Channel Managers leading to major Online Travel Agents (“OTA”). It is robust and comes with dynamic booking engine\, intelligent housekeeping management system\, revenue management capabilities and accounting features. Our PMS also provides comprehensive reports for operations\, revenue management and control purposes. \nWe conduct regular online trainings for our clients. The training is grouped by Modules and divided into 3 Sessions i.e. A\, B and C. Please refer to the Online Training Programme below for reference. Select your Training Session and register by completing the Registration for PMS Online Training Form below. \nOnline Training Programme: \n\n\n\nS/N\nModule\nTraining Session\n\n\nA\nB\nC\n\n\n1\nSettings\n√\n\n\n\n\n2\nRevenue Management\n√\n\n\n\n\n3\nDashboard\n\n√\n\n\n\n4\nBooking Engine\n\n\n√\n\n\n5\nReports and Night Audit\n\n\n√\n\n\n6\neMailer\n\n\n√\n\n\n\nOnce you have successfully registered with us\, you will receive a password to log on to ZOOM via email closer to the training dates selected.  Please feel free to contact us should you need further information. \nIf you wish to make changes to your registration\, please contact us at sales@ultrontechniques.com. \nLoading…
URL:https://www.ultrontechniques.com/event/advance-pms-training-session-b-33/
LOCATION:ZOOM
CATEGORIES:Trainings
ORGANIZER;CN="%5B%3Aen%5DUltron%20Techniques%5B%3Azh%5DUlron%20Techniques%5B%3AID%5DUlron%20Techniques%5B%3A%5D":MAILTO:marketing@ultrontechniques.com
END:VEVENT
BEGIN:VEVENT
DTSTART;TZID=UTC:20260521T070000
DTEND;TZID=UTC:20260521T080000
DTSTAMP:20260421T093248
CREATED:20260405T013405Z
LAST-MODIFIED:20260414T080956Z
UID:2734-1779346800-1779350400@www.ultrontechniques.com
SUMMARY:Advance PMS Training Session - C
DESCRIPTION:Ultron Property Management System (“PMS”) is a powerful and user-friendly cloud-based platform designed for all property types. It is integrated with Channel Managers leading to major Online Travel Agents (“OTA”). It is robust and comes with dynamic booking engine\, intelligent housekeeping management system\, revenue management capabilities and accounting features. Our PMS also provides comprehensive reports for operations\, revenue management and control purposes. \nWe conduct regular online trainings for our clients. The training is grouped by Modules and divided into 3 Sessions i.e. A\, B and C. Please refer to the Online Training Programme below for reference. Select your Training Session and register by completing the Registration for PMS Online Training Form below. \nOnline Training Programme: \n\n\n\nS/N\nModule\nTraining Session\n\n\nA\nB\nC\n\n\n1\nSettings\n√\n\n\n\n\n2\nRevenue Management\n√\n\n\n\n\n3\nDashboard\n\n√\n\n\n\n4\nBooking Engine\n\n\n√\n\n\n5\nReports and Night Audit\n\n\n√\n\n\n6\neMailer\n\n\n√\n\n\n\nOnce you have successfully registered with us\, you will receive a password to log on to ZOOM via email closer to the training dates selected.  Please feel free to contact us should you need further information. \nIf you wish to make changes to your registration\, please contact us at sales@ultrontechniques.com. \nLoading…
URL:https://www.ultrontechniques.com/event/advance-pms-training-session-c-32/
LOCATION:ZOOM
CATEGORIES:Trainings
ORGANIZER;CN="%5B%3Aen%5DUltron%20Techniques%5B%3Azh%5DUlron%20Techniques%5B%3AID%5DUlron%20Techniques%5B%3A%5D":MAILTO:marketing@ultrontechniques.com
END:VEVENT
BEGIN:VEVENT
DTSTART;TZID=UTC:20261230T060000
DTEND;TZID=UTC:20261230T080000
DTSTAMP:20260421T093248
CREATED:20260327T021618Z
LAST-MODIFIED:20260415T075118Z
UID:2722-1798610400-1798617600@www.ultrontechniques.com
SUMMARY:Day Use PMS Overview
DESCRIPTION:Free demonstration on all functions and capabilities of Ultron Day Use PMS. \nhttps://docs.google.com/forms/d/15PKVPkLWPgEC5NkjMpQMSwaZNsx9NtJYGPjddp9mOyA
URL:https://www.ultrontechniques.com/event/day-use-pms-overview/
LOCATION:ZOOM
CATEGORIES:Webinars
ORGANIZER;CN="%5B%3Aen%5DUltron%20Techniques%5B%3Azh%5DUlron%20Techniques%5B%3AID%5DUlron%20Techniques%5B%3A%5D":MAILTO:sales@ultrontechniques.com
END:VEVENT
END:VCALENDAR